BEGIN:VCALENDAR
VERSION:2.0
PRODID:-//Tukipilari - ECPv6.2.3.1//NONSGML v1.0//EN
CALSCALE:GREGORIAN
METHOD:PUBLISH
X-WR-CALNAME:Tukipilari
X-ORIGINAL-URL:https://www.tukipilari.fi
X-WR-CALDESC:Events for Tukipilari
REFRESH-INTERVAL;VALUE=DURATION:PT1H
X-Robots-Tag:noindex
X-PUBLISHED-TTL:PT1H
BEGIN:VTIMEZONE
TZID:Europe/Moscow
BEGIN:STANDARD
TZOFFSETFROM:+0300
TZOFFSETTO:+0300
TZNAME:MSK
DTSTART:20210101T000000
END:STANDARD
END:VTIMEZONE
BEGIN:VEVENT
DTSTART;TZID=Europe/Moscow:20250402T140000
DTEND;TZID=Europe/Moscow:20250402T150000
DTSTAMP:20260422T000335
CREATED:20250305T102509Z
LAST-MODIFIED:20250305T102524Z
UID:13377-1743602400-1743606000@www.tukipilari.fi
SUMMARY:OmaSavo taskussasi Tietoisku
DESCRIPTION:Aika: ke 2.4. kello 14.00-15.00\nPaikka: Tukipilarin kokoontumistila tai etänä Teamsin kautta\nIlmoittautuminen 1.4. mennessä https://www.tukipilari.fi/ilmoittautuminen/ \nJoko olet kuullut OmaSavosta? Haluatko tietää lisää? \n\nMikä on OmaSavo?\nMistä palvelun löytää?\nKuinka saan palvelun käyttöön?\nMistä saan ohjeita palvelun käyttöön?
URL:https://www.tukipilari.fi/tapahtuma/omasavo-taskussasi-tietoisku/
CATEGORIES:Esittely
ATTACH;FMTTYPE=image/png:https://www.tukipilari.fi/wp-content/uploads/Tukipilari_ikonit2_Koulutukset-1.png
END:VEVENT
BEGIN:VEVENT
DTSTART;TZID=Europe/Moscow:20230930T100000
DTEND;TZID=Europe/Moscow:20231001T160000
DTSTAMP:20260422T000335
CREATED:20230509T065123Z
LAST-MODIFIED:20230530T065131Z
UID:11498-1696068000-1696176000@www.tukipilari.fi
SUMMARY:Hyvinvointimessut yhdistystori
DESCRIPTION:Paikka: Kuopio-halli\, Opistotie 4 70200 KUOPIOHinta: 45€/yhdistys/päivä (lisätietoja ilmoittautumislomakkeesta)\nMukaan mahtuu: 4 yhdistystä / päivä ilmoittautumisjärjestyksessä (ensisijaisesti varattavissa 1 päivä / yhdistys)\nIlmoittautuminen: sitovat ilmoittautumiset 31.7. mennessä https://forms.office.com/e/8UCXHYNneQ. Maksua ei palauteta\, jos perut ilmoittautumisen ilmoittautumisajan päätyttyä.\n\nMeillä on varattu 12 neliön messupaikka Kuopion hyvinvointimessuille\, joiden yhteydessä on myös kädentaito messut. Ilmoittautumiset ovat sitovia ja yhdistykset sitoutuvat olemaan paikalla koko valitsemansa päivän ajan. Paikan purku on ehdottomasti kielletty järjestäjän toimesta!\n\nLauantai TÄYNNÄ\nSunnuntai 4 vapaata paikkaa
URL:https://www.tukipilari.fi/tapahtuma/hyvinvointimessut-yhdistystori/
CATEGORIES:Esittely,Tapahtumat
ATTACH;FMTTYPE=image/png:https://www.tukipilari.fi/wp-content/uploads/Tukipilari_ikonit6_verkostoyhteistyo.png
END:VEVENT
BEGIN:VEVENT
DTSTART;TZID=Europe/Moscow:20230825T080000
DTEND;TZID=Europe/Moscow:20230826T160000
DTSTAMP:20260422T000335
CREATED:20230509T064932Z
LAST-MODIFIED:20230530T065144Z
UID:11496-1692950400-1693065600@www.tukipilari.fi
SUMMARY:Meidän Kuopio - järjestötori Elonkorjuutorilla
DESCRIPTION:Aika: pe 25.8. klo 9-16 ja la 26.8. klo 10-16\nPaikka: Kuopion toriHinta: maksutonMukaan mahtuu: TÄYNNÄ!!! 12 yhdistystä /päivä ilmoittautumisjärjestyksessä\nIlmoittautuminen: sitovat ilmoittautumiset 23.6. mennessä https://forms.office.com/e/9wET4sqxj5\n\nMeille on varattu torille kolme 4 x 4 metrin telttaa\, joissa on kaksi pöytää per teltta. Eli kaksi toimijaa jakaa aina yhden pöydän. Tapahtuma on osa Elonkorjuutoria\, jolloin torilla on paljon muutakin tapahtumaa ja toimintaa. Ilmoittautumiset ovat sitovia ja yhdistykset sitoutuvat olemaan paikalla ilmoittamansa ajan. Tapahtumalla ei ole säävarausta!
URL:https://www.tukipilari.fi/tapahtuma/meidan-kuopio-jarjestotori-elonkorjuutorilla/
CATEGORIES:Esittely,Tapahtumat
ATTACH;FMTTYPE=image/png:https://www.tukipilari.fi/wp-content/uploads/Tukipilari_ikonit6_verkostoyhteistyo.png
END:VEVENT
BEGIN:VEVENT
DTSTART;TZID=Europe/Moscow:20230225T100000
DTEND;TZID=Europe/Moscow:20230225T150000
DTSTAMP:20260422T000335
CREATED:20230104T110942Z
LAST-MODIFIED:20230112T111932Z
UID:11167-1677319200-1677337200@www.tukipilari.fi
SUMMARY:Yhdistystori Prisma Kuopio
DESCRIPTION:Aika: la 25.2. kello 10-15\nPaikka: Prisma Kuopio (tarkemmin kassakäytävä)\nMukaan mahtuu: 5 yhdistystä\nIlmoittautuminen: sitovat ilmoittautumiset 12.2. mennessä: https://forms.office.com/e/Dca1LFe4vu \nPAIKAT TÄYNNÄ! Ilmoitamme lisäpaikoista\, jos saamme niitä. \nTervetuloa mukaan esittelemään oman yhdistyksesi toimintaa Prisma Kuopioon!\nEsittelypisteet sijaitsevat Prisman kassakäytävällä avain paikalla kohdata ihmisiä. Jokaiselle yhdistykselle varataan pöytä\, johon mahtuu esitteitä. Tukipilarin henkilökunta on koko päivän teidän tukena. Varaa siis paikkasi nopeasti!
URL:https://www.tukipilari.fi/tapahtuma/yhdistystori-prisma-kuopio/
CATEGORIES:Esittely
ATTACH;FMTTYPE=image/png:https://www.tukipilari.fi/wp-content/uploads/Tukipilari_ikonit6_verkostoyhteistyo.png
END:VEVENT
BEGIN:VEVENT
DTSTART;TZID=Europe/Moscow:20230223T120000
DTEND;TZID=Europe/Moscow:20230223T180000
DTSTAMP:20260422T000335
CREATED:20230102T103120Z
LAST-MODIFIED:20230215T102429Z
UID:11124-1677153600-1677175200@www.tukipilari.fi
SUMMARY:PERUTTU Mielen hyvinvoinnin iltapäivä
DESCRIPTION:Tervetuloa Mieliteko-ohjelman ja Tukipilarin yhteiseen mielen hyvinvoinnin iltapäivään! \nAika: to 23.2. kello 12.00-18.00\nPaikka: Kohtaamo\nIlmoittautuminen: 14.2. mennessä https://www.tukipilari.fi/ilmoittautuminen/ (tilaisuus järjestetään\, mikäli ilmoittautuneita on enemmän kuin 10) \n  \nAIKATAULU \n12.00 Tukipilarin terveiset\n12.15 Mieliteko-ohjelman esittely\, Liisa Pietikäinen\n12.30 Päivän rakenne\n12.40 Mielitekopiiri: Puhumattomuus\, Liisa Pietikäinen\n13.40 Tauko\n13.50 Mielitekoriihi\, Seija Laakso\n15.10 Kahvia ja välipalaa\n15.30 Mielenterveystaitojen valmennus\, Anne-Marika Partanen (sisältää kevyttä toiminnallisuutta)\n16.30 Tauko\n16.40 Kohtaamisesta kuulumiseen: mielen hyvinvointia yhdessä tehden\, Ulla Piipponen (toiminnallisia osioita)\n17.40 Kokemukset ja yhteenveto\, avointa keskustelua\n18.00 Tilaisuus päättyy \n  \n 
URL:https://www.tukipilari.fi/tapahtuma/mielen-hyvinvoinnin-iltapaiva/
CATEGORIES:Esittely,Koulutukset,Tapahtumat
ATTACH;FMTTYPE=image/png:https://www.tukipilari.fi/wp-content/uploads/Tukipilari_ikonit2_Koulutukset-1.png
END:VEVENT
BEGIN:VEVENT
DTSTART;TZID=Europe/Moscow:20230222T100000
DTEND;TZID=Europe/Moscow:20230222T120000
DTSTAMP:20260422T000335
CREATED:20230201T072805Z
LAST-MODIFIED:20230220T104147Z
UID:11290-1677060000-1677067200@www.tukipilari.fi
SUMMARY:PERUUTUS: Teemapäivä Pääsairaalan OLKA-pisteellä: Pohjois-Savon Omaishoitajat ry\,  Tietoa ja tukea omaishoitoon
DESCRIPTION:Keskiviikkona 22.2. klo 10-12 PERUTTU \nTietoa ja tukea omaishoitoon\, Pohjois-Savon Omaishoitajat ry \nTeemapäivän aikana löydät Pohjois-Savon Omaishoitajat ry esittelijöitä OLKA-pisteeltä. \nOlet tervetullut keskustelemaan heidän kanssaan Pohjois-Savon omaishoitajiin liittyvistä asioista tai voit tulla muuten vain jutustelemaan heidän kanssaan\, tervetuloa!
URL:https://www.tukipilari.fi/tapahtuma/teemapaiva-paasairaalan-olka-pisteella-pohjois-savon-omaishoitajat-ry-tietoa-ja-tukea-omaishoitoon/
LOCATION:Kuopion yliopistollinen sairaala\, Puijonlaaksontie 2\, Kuopio\, Pohjois-Savo\, 70210\, Suomi
CATEGORIES:Esittely,OLKA,Tapahtumat,Teemapäivä
ORGANIZER;CN="OLKA Kuopio yhdistystoiminta":MAILTO:olka@pshyvinvointialue.fi
END:VEVENT
BEGIN:VEVENT
DTSTART;TZID=Europe/Moscow:20220927T100000
DTEND;TZID=Europe/Moscow:20220927T140000
DTSTAMP:20260422T000335
CREATED:20220829T121933Z
LAST-MODIFIED:20220829T121933Z
UID:10721-1664272800-1664287200@www.tukipilari.fi
SUMMARY:Teemapäivä OLKA-pisteellä: Maailman Sydänpäivä\, Savon Sydänpiiri ry
DESCRIPTION:Tiistaina 27.9. klo 10-14 Savon Sydänpiiri ry pitämässä teemapäivää Pääsairaalan OLKA-pisteellä teemanaan Maailman Sydänpäivä.\nTeemapäivän aikana löydät Savon Sydänpiiri ry:n esittelijöitä Pääsairaalan OLKA-pisteeltä. Olet tervetullut keskustelemaan heidän kanssaan Sydänpäivään liittyvistä asioista tai voit vain tulla jutustelemaan heidän kanssaan. Tervetuloa! \n  \n 
URL:https://www.tukipilari.fi/tapahtuma/teemapaiva-olka-pisteella-maailman-sydanpaiva-savon-sydanpiiri-ry/
LOCATION:Kuopion yliopistollinen sairaala\, Puijonlaaksontie 2\, Kuopio\, Pohjois-Savo\, 70210\, Suomi
CATEGORIES:Esittely,Teemapäivä
ORGANIZER;CN="OLKA Kuopio yhdistystoiminta":MAILTO:olka@pshyvinvointialue.fi
END:VEVENT
BEGIN:VEVENT
DTSTART;TZID=Europe/Moscow:20220922T120000
DTEND;TZID=Europe/Moscow:20220922T140000
DTSTAMP:20260422T000335
CREATED:20220909T110018Z
LAST-MODIFIED:20220909T110018Z
UID:10733-1663848000-1663855200@www.tukipilari.fi
SUMMARY:Teemapäivä OLKA-pisteellä: Hyvää elämää muistiystävällisessä yhteiskunnassa\, Pohjois-Savon Muisti ry
DESCRIPTION:Torstaina 22.9. klo 12-14 Pohjois-Savon Muisti ry pitämässä teemapäivää aiheella Hyvää elämää muistiystävällisessä yhteiskunnassa\, esittäytymässä Pääsairaalan OLKA-pisteellä. \nTeemapäivän aikana löydät Pohjois-Savon muisti ry:n esittelijöitä Pääsairaalan OLKA-pisteeltä. Olet tervetullut keskustelemaan heidän kanssaan Pohjois-Savon muisti ry:n toimintaan liittyvistä asioista tai voit tulla muuten vain jutustelemaan heidän kanssaan. Tervetuloa! \n 
URL:https://www.tukipilari.fi/tapahtuma/teemapaiva-olka-pisteella-hyvaa-elamaa-muistiystavallisessa-yhteiskunnassa-pohjois-savon-muisti-ry/
LOCATION:Kuopion yliopistollinen sairaala\, Puijonlaaksontie 2\, Kuopio\, Pohjois-Savo\, 70210\, Suomi
CATEGORIES:Esittely,Teemapäivä
ORGANIZER;CN="OLKA Kuopio yhdistystoiminta":MAILTO:olka@pshyvinvointialue.fi
END:VEVENT
BEGIN:VEVENT
DTSTART;TZID=Europe/Moscow:20220921T100000
DTEND;TZID=Europe/Moscow:20220921T130000
DTSTAMP:20260422T000335
CREATED:20220829T121558Z
LAST-MODIFIED:20220829T121558Z
UID:10719-1663754400-1663765200@www.tukipilari.fi
SUMMARY:Teemapäivä OLKA-pisteellä: Itä-Suomen Biopankki
DESCRIPTION:Keskiviikkona 21.9. klo 10-13 Itä-Suomen Biopankki pitämässä teemapäivää Pääsairaalan OLKA-pisteellä.\nTeemapäivän aikana löydät Itä-Suomen Biopankin esittelijöitä Pääsairaalan OLKA-pisteeltä. Olet tervetullut keskustelemaan heidän kanssaan Biopankkiin liittyvistä asioista tai voit vain tulla jutustelemaan heidän kanssaan. Tervetuloa! \n 
URL:https://www.tukipilari.fi/tapahtuma/teemapaiva-olka-pisteella-ita-suomen-biopankki/
LOCATION:Kuopion yliopistollinen sairaala\, Puijonlaaksontie 2\, Kuopio\, Pohjois-Savo\, 70210\, Suomi
CATEGORIES:Esittely,Teemapäivä
ORGANIZER;CN="OLKA Kuopio yhdistystoiminta":MAILTO:olka@pshyvinvointialue.fi
END:VEVENT
BEGIN:VEVENT
DTSTART;TZID=Europe/Moscow:20220912T100000
DTEND;TZID=Europe/Moscow:20220912T130000
DTSTAMP:20260422T000335
CREATED:20220829T115258Z
LAST-MODIFIED:20220829T115258Z
UID:10704-1662976800-1662987600@www.tukipilari.fi
SUMMARY:Teemapäivä OLKA-pisteellä: Hyvää mieltä vertaistukiryhmistä\, Kuopion Mielenterveyden tuki ry
DESCRIPTION:Maanantaina 12.9. klo 10-13 Kuopion Mielenterveyden tuki ry pitämässä teemapäivää Pääsairaalan OLKA-pisteellä teemanaan Hyvää mieltä vertaistukiryhmistä.\nTeemapäivän aikana löydät Kuopion Mielenterveyden tuki ry:n esittelijöitä Pääsairaalan OLKA-pisteeltä. Olet tervetullut keskustelemaan heidän kanssaan vertaistukiryhmiin liittyvistä asioista tai voit vain tulla jutustelemaan heidän kanssaan. Tervetuloa!
URL:https://www.tukipilari.fi/tapahtuma/teemapaiva-olka-pisteella-hyvaa-mielta-vertaistukiryhmista-kuopion-mielenterveyden-tuki-ry/
LOCATION:Kuopion yliopistollinen sairaala\, Puijonlaaksontie 2\, Kuopio\, Pohjois-Savo\, 70210\, Suomi
CATEGORIES:Esittely,Teemapäivä
ORGANIZER;CN="OLKA Kuopio yhdistystoiminta":MAILTO:olka@pshyvinvointialue.fi
END:VEVENT
BEGIN:VEVENT
DTSTART;TZID=Europe/Moscow:20220906T100000
DTEND;TZID=Europe/Moscow:20220906T120000
DTSTAMP:20260422T000335
CREATED:20220829T122409Z
LAST-MODIFIED:20220829T122409Z
UID:10723-1662458400-1662465600@www.tukipilari.fi
SUMMARY:Teemapäivä Sädesairaalan OLKA-pisteellä: Pohjois-Savon Syöpäyhdistys- tietoa ja tukea\, Pohjois-Savon Syöpäyhdistys
DESCRIPTION:Tiistaina 6.9. klo 10-12 Pohjois-Savon Syöpäyhdistys pitämässä teemapäivää Sädesairaalan OLKA-pisteellä teemanaan tietoa ja tukea – Pohjois-Savon Syöpäyhdistys.\nTeemapäivän aikana löydät Pohjois-Savon Syöpäyhdistyksen esittelijöitä Sädesairaalan OLKA-pisteeltä. Olet tervetullut keskustelemaan heidän kanssaan Syöpäyhdistykseen liittyvistä asioista tai voit vain tulla jutustelemaan heidän kanssaan. Tervetuloa! \n  \n 
URL:https://www.tukipilari.fi/tapahtuma/teemapaiva-sadesairaalan-olka-pisteella-pohjois-savon-syopayhdistys-tietoa-ja-tukea-pohjois-savon-syopayhdistys/
LOCATION:Kuopion yliopistollinen sairaala\, Puijonlaaksontie 2\, Kuopio\, Pohjois-Savo\, 70210\, Suomi
CATEGORIES:Esittely,Teemapäivä
ORGANIZER;CN="OLKA Kuopio yhdistystoiminta":MAILTO:olka@pshyvinvointialue.fi
END:VEVENT
BEGIN:VEVENT
DTSTART;VALUE=DATE:20220826
DTEND;VALUE=DATE:20220828
DTSTAMP:20260422T000335
CREATED:20220506T095412Z
LAST-MODIFIED:20220506T095412Z
UID:10479-1661472000-1661644799@www.tukipilari.fi
SUMMARY:Meidän Kuopio Järjestötori
DESCRIPTION:Aika: pe 26.8. klo 9-16 ja la 27.8. klo 9-15\nPaikka: Kuopion tori\nIlmoittautuminen: 19.6. mennessä sähköisen lomakkeen kautta: https://forms.office.com/r/7UKy4JR1D3. \n  \nLIsätietoa lähempänä tapahtumaa! \nSuunnittelupalaveri 9.6. kello 14.30-16.00. Lisätietoja essi.saarela@tukipilari.fi
URL:https://www.tukipilari.fi/tapahtuma/meidan-kuopio-jarjestotori/
CATEGORIES:Esittely,Tapahtumat
ATTACH;FMTTYPE=image/png:https://www.tukipilari.fi/wp-content/uploads/Tukipilari_ikonit3_Yhdistykset.png
END:VEVENT
BEGIN:VEVENT
DTSTART;TZID=Europe/Moscow:20220614T100000
DTEND;TZID=Europe/Moscow:20220614T140000
DTSTAMP:20260422T000335
CREATED:20220427T103528Z
LAST-MODIFIED:20220603T094050Z
UID:10457-1655200800-1655215200@www.tukipilari.fi
SUMMARY:Yhdistystori Kohtaamo
DESCRIPTION:Aika: 14.6. kello 10-14\nPaikka: Kuopion kaupungin kirjaston Kohtaamoon \n  \n\nPaikan päällä toimintaa esittelemässä Itä-Suomen Biopankki\, Kuopion Invalidit ry\, Kuopion Seudun Hengitysyhdistys ry\, Seniorien ATK-yhdistys SAVONETTI ry ja OLKA Kuopio. Luvassa muun muassa tietoa toiminnasta\, arpajaiset ja pop up -digitukea. \nLisäksi kello 11.00-11.30 tutkimuspäällikkö\, professori Arto Mannermaa luennoi aiheesta ”Itä-Suomen Biopankin toiminta”. \nTervetuloa käymään ja kuuntelemaan! toiminnasta\, arpajaiset ja pop up -digitukea. \nLisäksi kello 11.00-11.30 tutkimuspäällikkö\, professori Arto Mannermaa luennoi aiheesta ”Itä-Suomen Biopankin toiminta”. \nTervetuloa käymään ja kuuntelemaan!
URL:https://www.tukipilari.fi/tapahtuma/yhdistystori-kohtaamo/
CATEGORIES:Esittely,Tapahtumat
ATTACH;FMTTYPE=image/png:https://www.tukipilari.fi/wp-content/uploads/Tukipilari_ikonit6_verkostoyhteistyo.png
END:VEVENT
BEGIN:VEVENT
DTSTART;TZID=Europe/Moscow:20210915T140000
DTEND;TZID=Europe/Moscow:20210915T160000
DTSTAMP:20260422T000335
CREATED:20210701T115043Z
LAST-MODIFIED:20210817T063730Z
UID:9760-1631714400-1631721600@www.tukipilari.fi
SUMMARY:Respectan toimintaa ja heidän tarjoamat apuvälineet ja tuet
DESCRIPTION:Aika: 14.00-16.00 \nPaikka: Tukipilarin kokoontumistila \nIlmoittautuminen 13.9. mennessä: https://www.tukipilari.fi/ilmoittautuminen/ \n  \nTapahtumassa esittellään Respectan toimintaa ja heidän tarjoamat apuvälineet ja tuet.\nTapahtuma toteutetaan hybridinä eli Tukipilarin kokoontumistilassa ja etänä Teamsin kautta.\n\n\n 
URL:https://www.tukipilari.fi/tapahtuma/tulossa-esittelytilaisuus/
CATEGORIES:Esittely
ATTACH;FMTTYPE=image/png:https://www.tukipilari.fi/wp-content/uploads/Tukipilari_ikonit2_Koulutukset.png
ORGANIZER;CN="Tukipilari":MAILTO:essi.saarela@tukipilari.fi
END:VEVENT
BEGIN:VEVENT
DTSTART;TZID=Europe/Moscow:20210203T140000
DTEND;TZID=Europe/Moscow:20210203T150000
DTSTAMP:20260422T000335
CREATED:20210121T100646Z
LAST-MODIFIED:20210203T112949Z
UID:9334-1612360800-1612364400@www.tukipilari.fi
SUMMARY:Esittely 3.2. kello 14-15 Valmennukset yhdistyksille
DESCRIPTION:Aika: keskiviikko 3.2.2021 kello 14-15\nPaikka: Etäyhteydellä Teams \nTukipilari esittelee yhdistyksen hallituksille suunnatut valmennukset yhdistyksille. \nValmennus tarjoamaan yhdistykselle työkaluja ja ideoita oman toiminnan kehittämiseen.  Valmennukset on suunnattu yhdistyksen hallituksille. \nMukaan tilaisuuteen pääset etänä Teamsin kautta\, mutta sinun on mahdollista osallistua esittelyyn Tukipilarin tiloissa. Etäosallistuminen onnistuu liittymällä Teamsiin tämän linkin kautta: . \nJos haluat osallistua koulutukseen Tukipilarin tiloissa ilmoittaudu mukaan ilmoittautumislomakkeella. HUOM! Kokoontumistilaan otetaan maksimissaan10 osallistujaa\, jotta saamme huolehdittua AVIn:n ja THL:n suosituksista. \nOhjeet Teamsin käyttöön löydät täältä.
URL:https://www.tukipilari.fi/tapahtuma/esittely-3-2-kello-14-15-valmennukset-yhdistyksille/
CATEGORIES:Esittely
ATTACH;FMTTYPE=image/png:https://www.tukipilari.fi/wp-content/uploads/Untitled-design-5.png
ORGANIZER;CN="Tukipilari":MAILTO:essi.saarela@tukipilari.fi
END:VEVENT
END:VCALENDAR