BEGIN:VCALENDAR
VERSION:2.0
PRODID:-//Tukipilari - ECPv6.2.3.1//NONSGML v1.0//EN
CALSCALE:GREGORIAN
METHOD:PUBLISH
X-WR-CALNAME:Tukipilari
X-ORIGINAL-URL:https://www.tukipilari.fi
X-WR-CALDESC:Events for Tukipilari
REFRESH-INTERVAL;VALUE=DURATION:PT1H
X-Robots-Tag:noindex
X-PUBLISHED-TTL:PT1H
BEGIN:VTIMEZONE
TZID:Europe/Moscow
BEGIN:STANDARD
TZOFFSETFROM:+0300
TZOFFSETTO:+0300
TZNAME:MSK
DTSTART:20240101T000000
END:STANDARD
END:VTIMEZONE
BEGIN:VEVENT
DTSTART;TZID=Europe/Moscow:20241114T100000
DTEND;TZID=Europe/Moscow:20241114T140000
DTSTAMP:20260422T060907
CREATED:20240520T080728Z
LAST-MODIFIED:20240604T104953Z
UID:12576-1731578400-1731592800@www.tukipilari.fi
SUMMARY:ILONA-valmennus torstaina 14.11. klo 10-14
DESCRIPTION:ILONA-valmennus \nHaluatko sinä auttaa potilaita ja heidän läheisiään KYSssä? Lähde mukaan ILONA-valmennukseen! Valmennus antaa valmiudet toimia OLKA-vapaaehtoisena  sairaalaympäristössä esimerkiksi aula-avustajana\, juttu- tai leikkikaverina. Valmennus koostuu yhdestä neljän tunnin koulutuksesta. \nValmennus on maksuton! \nValmennuksen sisältö: \n\nKYS ja OLKA esittelyt\nsairaalahygienia ja sairaalaturvallisuus vapaaehtoisille.\nvapaaehtoistoiminta OLKAssa\nkohtaaminen sairaalassa\n\nIlmoittaudu sivustolla olevan lomakkeen kautta itsellesi sopivaan valmennukseen tai jätä avoin hakemus! Valmennuksiin ilmoittautuminen sulkeutuu kahta päivää ennen valmennusta. \nHaastattelemme kaikki vapaaehtoistoiminnasta kiinnostuneet valmennuksen jälkeen. Eli voit päättää haluatko lähteä mukaan toimintaan vasta valmennuksen jälkeen! \nOta rohkeasti yhteyttä\, jos sinulla on kysyttävää! \nSamja puh: 044 729 2176
URL:https://www.tukipilari.fi/tapahtuma/ilona-valmennus-torstaina-14-11-klo-10-14/
LOCATION:Kuopion yliopistollinen sairaala\, Puijonlaaksontie 2\, Kuopio\, Pohjois-Savo\, 70210\, Suomi
CATEGORIES:OLKA,vertaistuki
ATTACH;FMTTYPE=image/png:https://www.tukipilari.fi/wp-content/uploads/Nimeton-suunn.malli-9-2.png
ORGANIZER;CN="OLKA Kuopio vapaaehtoistoiminta":MAILTO:olka@pshyvinvointialue.fi
END:VEVENT
END:VCALENDAR