BEGIN:VCALENDAR
VERSION:2.0
PRODID:-//Tukipilari - ECPv6.2.3.1//NONSGML v1.0//EN
CALSCALE:GREGORIAN
METHOD:PUBLISH
X-ORIGINAL-URL:https://www.tukipilari.fi
X-WR-CALDESC:Events for Tukipilari
REFRESH-INTERVAL;VALUE=DURATION:PT1H
X-Robots-Tag:noindex
X-PUBLISHED-TTL:PT1H
BEGIN:VTIMEZONE
TZID:Europe/Moscow
BEGIN:STANDARD
TZOFFSETFROM:+0300
TZOFFSETTO:+0300
TZNAME:MSK
DTSTART:20220101T000000
END:STANDARD
END:VTIMEZONE
BEGIN:VEVENT
DTSTART;TZID=Europe/Moscow:20220824T150000
DTEND;TZID=Europe/Moscow:20220824T200000
DTSTAMP:20260421T104558
CREATED:20220630T092454Z
LAST-MODIFIED:20220815T071759Z
UID:10547-1661353200-1661371200@www.tukipilari.fi
SUMMARY:Kuopion Valikkoryhmän vapaaehtoisten virkistäytymispäivä Rytkyllä
DESCRIPTION:Aika: keskiviikkona 24.8.2022 kello 15-20\nPaikka: Rytkyn leirikeskus (Rytkynrannantie 16 \, 70800 Kuopio)\nHinta: 10€/henkilö (sis. kuljetuksen\, ohjelman\, ruuan ja saunan)\nLaskutus: Yhdistykseltä tai järjestöltä henkilömäärän mukaan\nSitovat ilmoittautumiset: 16.8. mennessä: https://forms.office.com/r/zQdQWzPYBs Tarvittavat tiedot ilmoittautumiseen: Nimi\, sähköposti ja/tai puhelin\, ikähaarukka\, saunooko vai ei\, allergiat ja/tai erikoisruokavaliot ja mahdolliset muut huomioitavat. \nTervetuloa mukaan vapaaehtoisten virkistyspäivään Rytkyn leirikeskukseen. Iltapäivänä pääset valitsemaan erilaisista aktiviteeteistä itsellesi sopivaa tekemistä\, ruokailemaan ja sinun on mahdollisuus saunoa. \nOhjelma: \n15.00 Yhteiskuljetus Kuopion keskustasta Rytkyyn (lähtöpaikka tarkentuu myöhemmin) \n15.30-17.30 Vaihtoehtoisia aktiviteettejä ja mukavaa yhdessäoloa  – mm. pelejä\, luonnossa liikkumista ja hartaus-/hiljentymishetki \n16.45-18.00 Porrastettu ruokailu \n17.30-19.15 Porrastettu saunominen (naiset – miehet)  TAI Vapaata ohjelmaa / Bingo / Pelejä \n19.30 Yhteiskuljetus Kuopion keskustaan \n\nPäivään mahtuu mukaan 50 vapaaehtoista! Voit myös tulla paikalle omalla kyydillä (ilmoitathan tämän kohtaan muuta huomioitavaa)
URL:https://www.tukipilari.fi/tapahtuma/kuopion-valikkoryhman-vapaaehtoisten-virkistaytymispaiva-rytkylla/
CATEGORIES:Tapahtumat
ATTACH;FMTTYPE=image/png:https://www.tukipilari.fi/wp-content/uploads/Tukipilari_ikonit5_vertaistoiminta.png
END:VEVENT
END:VCALENDAR